BEGIN:VCALENDAR
VERSION:2.0
PRODID:-//Patagonia Ruta Sur - ECPv6.0.0.1//NONSGML v1.0//EN
CALSCALE:GREGORIAN
METHOD:PUBLISH
X-WR-CALNAME:Patagonia Ruta Sur
X-ORIGINAL-URL:https://patagoniarutasur.cl
X-WR-CALDESC:Events for Patagonia Ruta Sur
REFRESH-INTERVAL;VALUE=DURATION:PT1H
X-Robots-Tag:noindex
X-PUBLISHED-TTL:PT1H
BEGIN:VTIMEZONE
TZID:America/Sao_Paulo
BEGIN:STANDARD
TZOFFSETFROM:-0300
TZOFFSETTO:-0300
TZNAME:-03
DTSTART:20250101T000000
END:STANDARD
END:VTIMEZONE
BEGIN:VEVENT
DTSTART;VALUE=DATE:20250320
DTEND;VALUE=DATE:20250322
DTSTAMP:20260421T192337
CREATED:20250314T015751Z
LAST-MODIFIED:20250314T015751Z
UID:1132-1742428800-1742601599@patagoniarutasur.cl
SUMMARY:Tour San Rafael 20 al 21 de Marzo
DESCRIPTION:ITINERARIO\nExcursión Full Day Laguna San Rafael\nHorario Descripción:\n\n07:00 horas Check in directo en Puerto Oxxean de Puerto Chacabuco\n08:00 horas Zarpe\n08:15 horas Desayuno a bordo\n09:30 horas Charlas informativas guiadas\n11:00 am Aperitivo\n12:00 horas Almuerzo\n13:30 horas Arribo a Laguna San Rafael\n14:00 horas Inicio excursiones en zodiac\n15:00 horas Brindis con hielos milenarios y servicio de bar\n16:00 horas Servicio de té\n21:00 horas Arribo a Puerto Chacabuco y check out
URL:https://patagoniarutasur.cl/event/tour-san-rafael-20-al-21-de-marzo/
CATEGORIES:San Rafael
END:VEVENT
END:VCALENDAR